BEGIN:VCALENDAR
VERSION:2.0
PRODID:-//HER WORKING WOMEN EVENTS - ECPv6.15.11//NONSGML v1.0//EN
CALSCALE:GREGORIAN
METHOD:PUBLISH
X-WR-CALNAME:HER WORKING WOMEN EVENTS
X-ORIGINAL-URL:https://events.herworkingwomen.com
X-WR-CALDESC:Events for HER WORKING WOMEN EVENTS
REFRESH-INTERVAL;VALUE=DURATION:PT1H
X-Robots-Tag:noindex
X-PUBLISHED-TTL:PT1H
BEGIN:VTIMEZONE
TZID:Africa/Kampala
BEGIN:STANDARD
TZOFFSETFROM:+0300
TZOFFSETTO:+0300
TZNAME:EAT
DTSTART:20250101T000000
END:STANDARD
END:VTIMEZONE
BEGIN:VEVENT
DTSTART;TZID=Africa/Kampala:20260424T170000
DTEND;TZID=Africa/Kampala:20260424T220000
DTSTAMP:20260424T130646
CREATED:20260414T183519Z
LAST-MODIFIED:20260414T183519Z
UID:10000024-1777050000-1777068000@events.herworkingwomen.com
SUMMARY:HER Executives Dinner with Dr. Rose Nakasi on how to use AI for Personal and Business Growth
DESCRIPTION:This is a women-only event focused on empowering women with the confidence\, insights\, and practical tools needed to lead boldly and thrive in their careers\, businesses\, and everyday lives.\n\nNot ready to pay just yet?\nNo problem. You can click the button below and leave your details\, choose\nwhen you’d like to be reminded. We’ll get back to you at your preferred date and\ntime so you don’t miss out.\n\n \nPAY LATER \n\nIf you are paying today\, please proceed to the next step.
URL:https://events.herworkingwomen.com/event/her-executives-dinner-with-dr-rose-nakasi-on-how-to-use-ai-for-personal-and-business-growth/
ATTACH;FMTTYPE=image/jpeg:https://events.herworkingwomen.com/wp-content/uploads/2026/04/Kampala-Meetup-Dinner-02.jpg-scaled.jpeg
END:VEVENT
END:VCALENDAR